BEGIN:VCALENDAR
VERSION:2.0
PRODID:spatie/icalendar-generator
DESCRIPTION:Events from Providence Catholic High School
X-WR-CALDESC:Events from Providence Catholic High School
REFRESH-INTERVAL;VALUE=DURATION:PT1440M
X-PUBLISHED-TTL:PT1440M
BEGIN:VTIMEZONE
TZID:America/Chicago
BEGIN:STANDARD
DTSTART:20191103T020000Z
TZOFFSETFROM:-0500
TZOFFSETTO:-0600
END:STANDARD
BEGIN:DAYLIGHT
DTSTART:20200308T020000Z
TZOFFSETFROM:-0600
TZOFFSETTO:-0500
END:DAYLIGHT
END:VTIMEZONE
BEGIN:VTIMEZONE
TZID:UTC
BEGIN:STANDARD
DTSTART:20250723T145459Z
TZOFFSETFROM:+0000
TZOFFSETTO:+0000
END:STANDARD
END:VTIMEZONE
BEGIN:VEVENT
UID:1056-1028
DTSTAMP:20260419T145459Z
SUMMARY:Re-Igniting Catholicism: Jesus and You (With Father Tom McCarthy\, 
 OSA)
LOCATION:
ORGANIZER;CN=Rosanne Grigoletti:MAILTO:rgrigoletti@providencecatholic.org
DTSTART;TZID=America/Chicago:20200122T190000
DTEND;TZID=America/Chicago:20200122T203000
X-ALT-DESC;FMTTYPE=TEXT/HTML:Re-igniting-Catholicism (Click here for the p
 rintout) Held at Providence Catholic High School. In partnership with St. 
 Jude's New Lenox. Register online at http://stjudes.org/reigniting-catholi
 cism 
CATEGORIES:General
URL;VALUE=URI:https://www.providencecatholic.org/mc-events/re-igniting-cath
 olicism-jesus-and-you-with-father-tom-mccarthy-osa/
METHOD:PUBLISH
END:VEVENT
END:VCALENDAR